BEGIN:VCALENDAR
VERSION:2.0
PRODID:-//Tukios.com/
BEGIN:VEVENT
UID:2e1fd297-ff0d-44a8-8703-c13fad0ab300@www.familyfirstfuneral.com
DTSTAMP:20260424T225922Z
DTSTART:20260425T160000Z
DTEND:20260425T174500Z
SUMMARY:Danny Carter Funeral Service
DESCRIPTION:
URL:https://www.familyfirstfuneral.com/obituaries/danny-carter
LOCATION: 2703 Elsie Faye Heggins St  Dallas TX 75215
GEO:32.7552123;-96.7546413
END:VEVENT
END:VCALENDAR